BEGIN:VCALENDAR
VERSION:2.0
PRODID:-//ALTGC - ECPv6.8.1//NONSGML v1.0//EN
CALSCALE:GREGORIAN
METHOD:PUBLISH
X-WR-CALNAME:ALTGC
X-ORIGINAL-URL:https://altgc.giftedtechnologies.in
X-WR-CALDESC:Events for ALTGC
REFRESH-INTERVAL;VALUE=DURATION:PT1H
X-Robots-Tag:noindex
X-PUBLISHED-TTL:PT1H
BEGIN:VTIMEZONE
TZID:UTC
BEGIN:STANDARD
TZOFFSETFROM:+0000
TZOFFSETTO:+0000
TZNAME:UTC
DTSTART:20240101T000000
END:STANDARD
END:VTIMEZONE
BEGIN:VEVENT
DTSTART;TZID=UTC:20250313T093000
DTEND;TZID=UTC:20250313T190000
DTSTAMP:20260420T151034
CREATED:20231228T165313Z
LAST-MODIFIED:20231228T165335Z
UID:29232-1741858200-1741892400@altgc.giftedtechnologies.in
SUMMARY:SRI SATYANARYANA POOJA
DESCRIPTION:
URL:https://altgc.giftedtechnologies.in/event/sri-satyanaryana-pooja-13-march-2025/
END:VEVENT
BEGIN:VEVENT
DTSTART;TZID=UTC:20250303T080000
DTEND;TZID=UTC:20250303T170000
DTSTAMP:20260420T151034
CREATED:20231228T160937Z
LAST-MODIFIED:20231228T161003Z
UID:29173-1740988800-1741021200@altgc.giftedtechnologies.in
SUMMARY:SRI RANGANATHA (SRIMANNARAYANA) ABHISHEKAM
DESCRIPTION:
URL:https://altgc.giftedtechnologies.in/event/sri-ranganatha-srimannarayana-abhishekam-03-march-2025/
END:VEVENT
BEGIN:VEVENT
DTSTART;TZID=UTC:20250218T080000
DTEND;TZID=UTC:20250218T170000
DTSTAMP:20260420T151034
CREATED:20231228T160851Z
LAST-MODIFIED:20231228T160911Z
UID:29171-1739865600-1739898000@altgc.giftedtechnologies.in
SUMMARY:SRI RANGANATHA (SRIMANNARAYANA) ABHISHEKAM
DESCRIPTION:
URL:https://altgc.giftedtechnologies.in/event/sri-ranganatha-srimannarayana-abhishekam-18-feb-2025/
END:VEVENT
BEGIN:VEVENT
DTSTART;TZID=UTC:20250215T093000
DTEND;TZID=UTC:20250215T190000
DTSTAMP:20260420T151034
CREATED:20231228T191012Z
LAST-MODIFIED:20231228T191012Z
UID:29262-1739611800-1739646000@altgc.giftedtechnologies.in
SUMMARY:SANKATAHARANA CHATURTHI
DESCRIPTION:
URL:https://altgc.giftedtechnologies.in/event/sankataharana-chaturthi-15-feb-2025/
END:VEVENT
BEGIN:VEVENT
DTSTART;TZID=UTC:20250215T093000
DTEND;TZID=UTC:20250215T190000
DTSTAMP:20260420T151034
CREATED:20231228T163625Z
LAST-MODIFIED:20231228T163647Z
UID:29201-1739611800-1739646000@altgc.giftedtechnologies.in
SUMMARY:SRI MAHA LAKSHIMI ABHISHEKAM
DESCRIPTION:
URL:https://altgc.giftedtechnologies.in/event/sri-maha-lakshimi-abhishekam-15-feb-2025/
END:VEVENT
BEGIN:VEVENT
DTSTART;TZID=UTC:20250211T093000
DTEND;TZID=UTC:20250211T190000
DTSTAMP:20260420T151034
CREATED:20231228T165224Z
LAST-MODIFIED:20231228T165244Z
UID:29229-1739266200-1739300400@altgc.giftedtechnologies.in
SUMMARY:SRI SATYANARYANA POOJA
DESCRIPTION:
URL:https://altgc.giftedtechnologies.in/event/sri-satyanaryana-pooja-11-feb-2025/
END:VEVENT
BEGIN:VEVENT
DTSTART;TZID=UTC:20250118T093000
DTEND;TZID=UTC:20250118T190000
DTSTAMP:20260420T151034
CREATED:20231228T163536Z
LAST-MODIFIED:20231228T163556Z
UID:29199-1737192600-1737226800@altgc.giftedtechnologies.in
SUMMARY:SRI MAHA LAKSHIMI ABHISHEKAM
DESCRIPTION:
URL:https://altgc.giftedtechnologies.in/event/sri-maha-lakshimi-abhishekam-18-jan-2025/
END:VEVENT
BEGIN:VEVENT
DTSTART;TZID=UTC:20250116T093000
DTEND;TZID=UTC:20250116T190000
DTSTAMP:20260420T151034
CREATED:20231228T190826Z
LAST-MODIFIED:20231228T190826Z
UID:29260-1737019800-1737054000@altgc.giftedtechnologies.in
SUMMARY:SANKATAHARANA CHATURTHI
DESCRIPTION:
URL:https://altgc.giftedtechnologies.in/event/sankataharana-chaturthi-16-jan-2025/
END:VEVENT
BEGIN:VEVENT
DTSTART;TZID=UTC:20250113T093000
DTEND;TZID=UTC:20250113T190000
DTSTAMP:20260420T151034
CREATED:20231228T165138Z
LAST-MODIFIED:20231228T165154Z
UID:29227-1736760600-1736794800@altgc.giftedtechnologies.in
SUMMARY:SRI SATYANARYANA POOJA
DESCRIPTION:
URL:https://altgc.giftedtechnologies.in/event/sri-satyanaryana-pooja-13-jan-2025/
END:VEVENT
BEGIN:VEVENT
DTSTART;TZID=UTC:20250106T080000
DTEND;TZID=UTC:20250106T170000
DTSTAMP:20260420T151034
CREATED:20231228T160801Z
LAST-MODIFIED:20231228T160821Z
UID:29169-1736150400-1736182800@altgc.giftedtechnologies.in
SUMMARY:SRI RANGANATHA (SRIMANNARAYANA) ABHISHEKAM
DESCRIPTION:
URL:https://altgc.giftedtechnologies.in/event/sri-ranganatha-srimannarayana-abhishekam-06-jan-2025/
END:VEVENT
BEGIN:VEVENT
DTSTART;TZID=UTC:20241222T093000
DTEND;TZID=UTC:20241222T190000
DTSTAMP:20260420T151034
CREATED:20231228T163507Z
LAST-MODIFIED:20231228T163507Z
UID:29197-1734859800-1734894000@altgc.giftedtechnologies.in
SUMMARY:SRI MAHA LAKSHIMI ABHISHEKAM
DESCRIPTION:
URL:https://altgc.giftedtechnologies.in/event/sri-maha-lakshimi-abhishekam-22-dec-2024/
END:VEVENT
BEGIN:VEVENT
DTSTART;TZID=UTC:20241218T093000
DTEND;TZID=UTC:20241218T190000
DTSTAMP:20260420T151034
CREATED:20231228T190716Z
LAST-MODIFIED:20231228T190716Z
UID:29258-1734514200-1734548400@altgc.giftedtechnologies.in
SUMMARY:SANKATAHARANA CHATURTHI
DESCRIPTION:
URL:https://altgc.giftedtechnologies.in/event/sankataharana-chaturthi-18-dec-2024/
END:VEVENT
BEGIN:VEVENT
DTSTART;TZID=UTC:20241215T103000
DTEND;TZID=UTC:20241215T113000
DTSTAMP:20260420T151034
CREATED:20231221T165620Z
LAST-MODIFIED:20231221T165620Z
UID:28710-1734258600-1734262200@altgc.giftedtechnologies.in
SUMMARY:Tiruppaval Sevakalam/Archana - Dhanarumasa
DESCRIPTION:
URL:https://altgc.giftedtechnologies.in/event/tiruppaval-sevakalam-archana-dhanarumasa/
END:VEVENT
BEGIN:VEVENT
DTSTART;TZID=UTC:20241214T093000
DTEND;TZID=UTC:20241214T190000
DTSTAMP:20260420T151034
CREATED:20231228T165038Z
LAST-MODIFIED:20231228T165105Z
UID:29225-1734168600-1734202800@altgc.giftedtechnologies.in
SUMMARY:SRI SATYANARYANA POOJA
DESCRIPTION:
URL:https://altgc.giftedtechnologies.in/event/sri-satyanaryana-pooja-14-dec-2024/
END:VEVENT
BEGIN:VEVENT
DTSTART;TZID=UTC:20241210T080000
DTEND;TZID=UTC:20241210T170000
DTSTAMP:20260420T151034
CREATED:20231228T160713Z
LAST-MODIFIED:20231228T160730Z
UID:29167-1733817600-1733850000@altgc.giftedtechnologies.in
SUMMARY:SRI RANGANATHA (SRIMANNARAYANA) ABHISHEKAM
DESCRIPTION:
URL:https://altgc.giftedtechnologies.in/event/sri-ranganatha-srimannarayana-abhishekam-10-dec-2024/
END:VEVENT
BEGIN:VEVENT
DTSTART;TZID=UTC:20241125T093000
DTEND;TZID=UTC:20241125T190000
DTSTAMP:20260420T151034
CREATED:20231228T163359Z
LAST-MODIFIED:20231228T163418Z
UID:29195-1732527000-1732561200@altgc.giftedtechnologies.in
SUMMARY:SRI MAHA LAKSHIMI ABHISHEKAM
DESCRIPTION:
URL:https://altgc.giftedtechnologies.in/event/sri-maha-lakshimi-abhishekam-25-nov-2024/
END:VEVENT
BEGIN:VEVENT
DTSTART;TZID=UTC:20241118T093000
DTEND;TZID=UTC:20241118T190000
DTSTAMP:20260420T151034
CREATED:20231228T190621Z
LAST-MODIFIED:20231228T190621Z
UID:29256-1731922200-1731956400@altgc.giftedtechnologies.in
SUMMARY:SANKATAHARANA CHATURTHI
DESCRIPTION:
URL:https://altgc.giftedtechnologies.in/event/sankataharana-chaturthi-18-nov-2024/
END:VEVENT
BEGIN:VEVENT
DTSTART;TZID=UTC:20241115T173000
DTEND;TZID=UTC:20241115T183000
DTSTAMP:20260420T151034
CREATED:20231221T165538Z
LAST-MODIFIED:20241104T054147Z
UID:28708-1731691800-1731695400@altgc.giftedtechnologies.in
SUMMARY:Sri Satyanarayana Swamy Vartha Sahitha Karthika Deepoosthavam 2024
DESCRIPTION:Sri Satyanarayana Swamy Vartha Sahitha Karthika Deepoosthavam 2024 \nEvening at 5.30 PM \nVENUE: Sri Ashtalakshmi Temple (Temple with Provide all Pooja Items & Mahaprasadam (Dinner) \nApply Now\n 
URL:https://altgc.giftedtechnologies.in/event/sri-satyanarayana-swamy-vartha-sahitha-karthika-deepoosthavam-2024/
END:VEVENT
BEGIN:VEVENT
DTSTART;TZID=UTC:20241114T093000
DTEND;TZID=UTC:20241114T183000
DTSTAMP:20260420T151034
CREATED:20231228T193231Z
LAST-MODIFIED:20231228T193231Z
UID:29286-1731576600-1731609000@altgc.giftedtechnologies.in
SUMMARY:KARTIKA MASA SATYANARAYANA VRATHAM
DESCRIPTION:
URL:https://altgc.giftedtechnologies.in/event/kartika-masa-satyanarayana-vratham-14-nov-2024/
END:VEVENT
BEGIN:VEVENT
DTSTART;TZID=UTC:20241113T080000
DTEND;TZID=UTC:20241113T170000
DTSTAMP:20260420T151034
CREATED:20231228T160624Z
LAST-MODIFIED:20231228T160645Z
UID:29165-1731484800-1731517200@altgc.giftedtechnologies.in
SUMMARY:SRI RANGANATHA (SRIMANNARAYANA) ABHISHEKAM
DESCRIPTION:
URL:https://altgc.giftedtechnologies.in/event/sri-ranganatha-srimannarayana-abhishekam-13-nov-2024/
END:VEVENT
BEGIN:VEVENT
DTSTART;TZID=UTC:20241112T103000
DTEND;TZID=UTC:20241112T113000
DTSTAMP:20260420T151034
CREATED:20231221T165456Z
LAST-MODIFIED:20231221T165456Z
UID:28706-1731407400-1731411000@altgc.giftedtechnologies.in
SUMMARY:Sri Asthalakhmi Abhishekam / Archana - Kartika Dwadwadasl
DESCRIPTION:
URL:https://altgc.giftedtechnologies.in/event/sri-asthalakhmi-abhishekam-archana-kartika-dwadwadasl/
END:VEVENT
BEGIN:VEVENT
DTSTART;TZID=UTC:20241111T103000
DTEND;TZID=UTC:20241111T113000
DTSTAMP:20260420T151034
CREATED:20231221T165412Z
LAST-MODIFIED:20231221T165412Z
UID:28704-1731321000-1731324600@altgc.giftedtechnologies.in
SUMMARY:Sri Ranganatha Abhishekam / Archana - Kartika ekadashi
DESCRIPTION:
URL:https://altgc.giftedtechnologies.in/event/sri-ranganatha-abhishekam-archana-kartika-ekadashi/
END:VEVENT
BEGIN:VEVENT
DTSTART;TZID=UTC:20241031T093000
DTEND;TZID=UTC:20241031T193000
DTSTAMP:20260420T151034
CREATED:20231221T165306Z
LAST-MODIFIED:20231223T120859Z
UID:28702-1730367000-1730403000@altgc.giftedtechnologies.in
SUMMARY:Sri Mahalakshmi 108 Milk (Kalasha) Abhishekam / Archana Starts 11:00 AM - 07:30 PM - Diwali
DESCRIPTION:
URL:https://altgc.giftedtechnologies.in/event/sri-mahalakshmi-108-milk-kalasha-abhishekam-archana-starts-1100-am-0730-pm-diwali/
END:VEVENT
BEGIN:VEVENT
DTSTART;TZID=UTC:20241020T093000
DTEND;TZID=UTC:20241020T190000
DTSTAMP:20260420T151034
CREATED:20231228T190506Z
LAST-MODIFIED:20231228T190524Z
UID:29254-1729416600-1729450800@altgc.giftedtechnologies.in
SUMMARY:SANKATAHARANA CHATURTHI
DESCRIPTION:
URL:https://altgc.giftedtechnologies.in/event/sankataharana-chaturthi-20-oct-2024/
END:VEVENT
BEGIN:VEVENT
DTSTART;TZID=UTC:20241016T093000
DTEND;TZID=UTC:20241016T190000
DTSTAMP:20260420T151034
CREATED:20231228T164854Z
LAST-MODIFIED:20231228T164916Z
UID:29221-1729071000-1729105200@altgc.giftedtechnologies.in
SUMMARY:SRI SATYANARYANA POOJA
DESCRIPTION:
URL:https://altgc.giftedtechnologies.in/event/sri-satyanaryana-pooja-16-oct-2024/
END:VEVENT
BEGIN:VEVENT
DTSTART;TZID=UTC:20241016T080000
DTEND;TZID=UTC:20241016T170000
DTSTAMP:20260420T151034
CREATED:20231228T160536Z
LAST-MODIFIED:20231228T160555Z
UID:29163-1729065600-1729098000@altgc.giftedtechnologies.in
SUMMARY:SRI RANGANATHA (SRIMANNARAYANA) ABHISHEKAM
DESCRIPTION:
URL:https://altgc.giftedtechnologies.in/event/sri-ranganatha-srimannarayana-abhishekam-16-oct-2024/
END:VEVENT
BEGIN:VEVENT
DTSTART;TZID=UTC:20241012T110000
DTEND;TZID=UTC:20241012T120000
DTSTAMP:20260420T151034
CREATED:20231221T165212Z
LAST-MODIFIED:20231221T165212Z
UID:28700-1728730800-1728734400@altgc.giftedtechnologies.in
SUMMARY:Sri Devi/Bhodevi Sameta Sri Ranganatha Kalyanam - Vijaya Dashami
DESCRIPTION:
URL:https://altgc.giftedtechnologies.in/event/sri-devi-bhodevi-sameta-sri-ranganatha-kalyanam-vijaya-dashami/
END:VEVENT
BEGIN:VEVENT
DTSTART;TZID=UTC:20241012T083000
DTEND;TZID=UTC:20241012T203000
DTSTAMP:20260420T151034
CREATED:20231228T195139Z
LAST-MODIFIED:20240827T065016Z
UID:29306-1728721800-1728765000@altgc.giftedtechnologies.in
SUMMARY:SHARADH NAVRATRI FESTIVAL - VIJAYA DASHMI SRI LAKHSMI NARAYANA KALYANAM
DESCRIPTION:Oct 12th Friday – 2024\nSaturday – Vijayadashami Day 2024\n Morning: 8:30 Am- Suprabatham\n9:00 Am – Nityapooja\n9:30 Am – Sri Ranganatha Abhishekam\n11:00 Am- Sri Bhoo Sametha Sri Ranganatha Swamy Kalyanam {TTD Laddu Prasadam}\n12:30 Pm – Maha Mangalahaarathi &maha Prasdam \n Evening: 5:30 Pm – Sri Vishnu Sahasranama Parayanam\n 6pm – Sri Sita Rama Almkaara Seva\n7:30 PM – Carnatic Music\n8:15 Pm – Maha Mangala Harathi & Prasdam \n8:30pm – Sri Sita Rama Pallaki Seva\n \n \n  \nCLICK HERE TO REGISTER EVENT
URL:https://altgc.giftedtechnologies.in/event/sharadh-navratri-festival-vijaya-dashmi-sri-lakhsmi-narayana-kalyanam-12-oct-2024/
END:VEVENT
BEGIN:VEVENT
DTSTART;TZID=UTC:20241011T083000
DTEND;TZID=UTC:20241011T203000
DTSTAMP:20260420T151034
CREATED:20231228T194806Z
LAST-MODIFIED:20240827T064720Z
UID:29302-1728635400-1728678600@altgc.giftedtechnologies.in
SUMMARY:SHARADH NAVRATRI FESTIVAL - RAJYA LAKSHMI ALANKARANA/ARCHANA
DESCRIPTION:Oct 11th Friday – 2024 \nMorning: 8:30 Am- Suprabatham\n9:00 Am – Nityapooja\n9:30 Am – Sri Rajyalakshmi Lakshmi Abhishekam\n11:00 Am – Sri Suktha Homam\n12:30 Pm – Puranhuthi\, Maha Mangalahaarathi & Prasdam \n\nEvening: 5:30 Pm – Sri Lalitha Sahasranama Parayanam\n6pm – Sri Ashtalakshmi Laksha Kumkumaarchana\n 7:30 Pm – Carnatic Music\n8:15 Pm – Maha Mangala Harathi & Prasdam \n8:30pm – Sri Rajyalakshmi Pallaki Seva\n \n \n  \nCLICK HERE TO REGISTER EVENT
URL:https://altgc.giftedtechnologies.in/event/sharadh-navratri-festival-raj-lakshmi-alankarana-archana-11-oct-2024/
END:VEVENT
BEGIN:VEVENT
DTSTART;TZID=UTC:20241010T083000
DTEND;TZID=UTC:20241010T203000
DTSTAMP:20260420T151034
CREATED:20231228T194703Z
LAST-MODIFIED:20240827T064354Z
UID:29300-1728549000-1728592200@altgc.giftedtechnologies.in
SUMMARY:SHARADH NAVRATRI FESTIVAL - VIJAYA LAKSHMI ALANKARANA/ARCHANA
DESCRIPTION:Oct 10th Thursday- 2024\nMorning: 8:30 Am- Suprabatham\n9:00 Am -Nityapooja\n9:30 Am – Sri Vijaya Lakshmi Abhishekam\n11:00 Am- Puthrakaameshti Sri Vainateya Homam\n12:30 Pm – Puranhuthi\, Maha Mangalahaarathi & Prasdam \n\nEvening: 5:30 Pm – Sri Lalitha Sahasranam Sothtra Parayanam\n6pm – Sri Ashtalakshmi Laksha Kumkumaarchana\n7:30 Pm – Carnatic Music\n8:15 pm – Maha Mangala Harathi & Prasdam\n8:30pm – Sri Vijaya Lakshmi Pallaki Seva\n \n \n  \nCLICK HERE TO REGISTER EVENT
URL:https://altgc.giftedtechnologies.in/event/sharadh-navratri-festival-vijaya-lakshmi-alankarana-archana-10-oct-2024/
END:VEVENT
END:VCALENDAR